Package: flowBeads Version: 1.47.0 Command: rm -rf flowBeads.buildbin-libdir && mkdir flowBeads.buildbin-libdir && /Users/biocbuild/BBS/utils/build-universal.sh flowBeads_1.47.0.tar.gz /Library/Frameworks/R.framework/Resources/bin/R flowBeads.buildbin-libdir StartedAt: 2025-07-21 22:25:32 -0400 (Mon, 21 Jul 2025) EndedAt: 2025-07-21 22:25:36 -0400 (Mon, 21 Jul 2025) EllapsedTime: 4.1 seconds RetCode: 0 Status: OK PackageFile: flowBeads_1.47.0.tgz PackageFileSize: 1.227 MiB