Package: flowAI Version: 1.39.0 Command: /home/biocbuild/R/R/bin/R CMD INSTALL flowAI StartedAt: 2025-07-14 20:26:28 -0000 (Mon, 14 Jul 2025) EndedAt: 2025-07-14 20:26:47 -0000 (Mon, 14 Jul 2025) EllapsedTime: 18.8 seconds RetCode: 0 Status: OK