Package: flowAI Version: 1.39.0 Command: /home/biocbuild/R/R/bin/R CMD check --install=check:flowAI.install-out.txt --library=/home/biocbuild/R/R/site-library --no-vignettes --timings flowAI_1.39.0.tar.gz StartedAt: 2025-07-18 06:49:22 -0000 (Fri, 18 Jul 2025) EndedAt: 2025-07-18 06:50:46 -0000 (Fri, 18 Jul 2025) EllapsedTime: 84.1 seconds RetCode: 0 Status: OK CheckDir: flowAI.Rcheck Warnings: 0