Package: flowAI Version: 1.39.0 Command: /home/biocbuild/R/R/bin/R CMD build --keep-empty-dirs --no-resave-data flowAI StartedAt: 2025-07-14 23:36:58 -0000 (Mon, 14 Jul 2025) EndedAt: 2025-07-14 23:37:17 -0000 (Mon, 14 Jul 2025) EllapsedTime: 19.0 seconds RetCode: 0 Status: OK PackageFile: flowAI_1.39.0.tar.gz PackageFileSize: 3.81 MiB