Package: flowAI Version: 1.39.0 Command: F:\biocbuild\bbs-3.22-bioc\R\bin\R.exe CMD INSTALL flowAI StartedAt: 2025-07-15 15:45:44 -0400 (Tue, 15 Jul 2025) EndedAt: 2025-07-15 15:46:00 -0400 (Tue, 15 Jul 2025) EllapsedTime: 15.4 seconds RetCode: 0 Status: OK