Package: flowAI Version: 1.39.0 Command: /Library/Frameworks/R.framework/Resources/bin/R CMD INSTALL flowAI StartedAt: 2025-07-14 15:24:22 -0400 (Mon, 14 Jul 2025) EndedAt: 2025-07-14 15:24:37 -0400 (Mon, 14 Jul 2025) EllapsedTime: 15.1 seconds RetCode: 0 Status: OK