Package: flowAI Version: 1.39.0 Command: /Library/Frameworks/R.framework/Resources/bin/R CMD build --keep-empty-dirs --no-resave-data flowAI StartedAt: 2025-07-14 16:57:58 -0400 (Mon, 14 Jul 2025) EndedAt: 2025-07-14 16:58:16 -0400 (Mon, 14 Jul 2025) EllapsedTime: 18.3 seconds RetCode: 0 Status: OK PackageFile: flowAI_1.39.0.tar.gz PackageFileSize: 3.748 MiB