Package: flowAI Version: 1.39.0 Command: /Library/Frameworks/R.framework/Resources/bin/R CMD INSTALL flowAI StartedAt: 2025-07-14 15:07:38 -0400 (Mon, 14 Jul 2025) EndedAt: 2025-07-14 15:07:42 -0400 (Mon, 14 Jul 2025) EllapsedTime: 3.9 seconds RetCode: 0 Status: OK