Package: flagme Version: 1.65.0 Command: rm -rf flagme.buildbin-libdir && mkdir flagme.buildbin-libdir && F:\biocbuild\bbs-3.22-bioc\R\bin\R.exe CMD INSTALL --build --library=flagme.buildbin-libdir flagme_1.65.0.tar.gz StartedAt: 2025-07-25 09:15:39 -0400 (Fri, 25 Jul 2025) EndedAt: 2025-07-25 09:16:59 -0400 (Fri, 25 Jul 2025) EllapsedTime: 80.2 seconds RetCode: 0 Status: OK PackageFile: flagme_1.65.0.zip PackageFileSize: 954.7 KiB