Package: flagme Version: 1.65.0 Command: /home/biocbuild/bbs-3.22-bioc/R/bin/R CMD INSTALL flagme StartedAt: 2025-07-16 15:50:42 -0400 (Wed, 16 Jul 2025) EndedAt: 2025-07-16 15:51:55 -0400 (Wed, 16 Jul 2025) EllapsedTime: 72.3 seconds RetCode: 0 Status: OK