Package: flagme Version: 1.65.0 Command: /Library/Frameworks/R.framework/Resources/bin/R CMD check --install=check:flagme.install-out.txt --library=/Library/Frameworks/R.framework/Resources/library --no-vignettes --timings flagme_1.65.0.tar.gz StartedAt: 2025-07-11 19:15:36 -0400 (Fri, 11 Jul 2025) EndedAt: 2025-07-11 19:21:02 -0400 (Fri, 11 Jul 2025) EllapsedTime: 326.0 seconds RetCode: 0 Status: WARNINGS CheckDir: flagme.Rcheck Warnings: 2