Package: flagme Version: 1.65.0 Command: /Library/Frameworks/R.framework/Resources/bin/R CMD build --keep-empty-dirs --no-resave-data flagme StartedAt: 2025-07-11 16:18:04 -0400 (Fri, 11 Jul 2025) EndedAt: 2025-07-11 16:19:31 -0400 (Fri, 11 Jul 2025) EllapsedTime: 87.0 seconds RetCode: 0 Status: OK PackageFile: flagme_1.65.0.tar.gz PackageFileSize: 726.8 KiB