Package: fishpond Version: 2.15.0 Command: /Library/Frameworks/R.framework/Resources/bin/R CMD INSTALL fishpond StartedAt: 2025-07-24 15:23:32 -0400 (Thu, 24 Jul 2025) EndedAt: 2025-07-24 15:23:42 -0400 (Thu, 24 Jul 2025) EllapsedTime: 9.8 seconds RetCode: 0 Status: OK