Package: fgsea Version: 1.35.6 Command: /home/biocbuild/bbs-3.22-bioc/R/bin/R CMD check --install=check:fgsea.install-out.txt --library=/home/biocbuild/bbs-3.22-bioc/R/site-library --timings fgsea_1.35.6.tar.gz StartedAt: 2025-07-11 22:15:45 -0400 (Fri, 11 Jul 2025) EndedAt: 2025-07-11 22:35:55 -0400 (Fri, 11 Jul 2025) EllapsedTime: 1210.3 seconds RetCode: 0 Status: OK CheckDir: fgsea.Rcheck Warnings: 0