Package: fgsea Version: 1.35.6 Command: /home/biocbuild/bbs-3.22-bioc/R/bin/R CMD build --keep-empty-dirs --no-resave-data --md5 fgsea StartedAt: 2025-07-11 17:11:26 -0400 (Fri, 11 Jul 2025) EndedAt: 2025-07-11 17:19:20 -0400 (Fri, 11 Jul 2025) EllapsedTime: 473.7 seconds RetCode: 0 Status: OK PackageFile: fgsea_1.35.6.tar.gz PackageFileSize: 5.859 MiB