Package: fgsea Version: 1.35.6 Command: /Library/Frameworks/R.framework/Resources/bin/R CMD INSTALL fgsea StartedAt: 2025-07-22 15:05:03 -0400 (Tue, 22 Jul 2025) EndedAt: 2025-07-22 15:05:14 -0400 (Tue, 22 Jul 2025) EllapsedTime: 11.2 seconds RetCode: 0 Status: OK