Package: fgsea Version: 1.35.6 Command: /Library/Frameworks/R.framework/Resources/bin/R CMD check --install=check:fgsea.install-out.txt --library=/Library/Frameworks/R.framework/Resources/library --no-vignettes --timings fgsea_1.35.6.tar.gz StartedAt: 2025-07-22 19:17:23 -0400 (Tue, 22 Jul 2025) EndedAt: 2025-07-22 19:18:42 -0400 (Tue, 22 Jul 2025) EllapsedTime: 79.0 seconds RetCode: 0 Status: OK CheckDir: fgsea.Rcheck Warnings: 0