Package: fgsea Version: 1.35.6 Command: /Library/Frameworks/R.framework/Resources/bin/R CMD build --keep-empty-dirs --no-resave-data fgsea StartedAt: 2025-07-22 16:18:45 -0400 (Tue, 22 Jul 2025) EndedAt: 2025-07-22 16:22:37 -0400 (Tue, 22 Jul 2025) EllapsedTime: 231.6 seconds RetCode: 0 Status: OK PackageFile: fgsea_1.35.6.tar.gz PackageFileSize: 7.114 MiB