Package: fgsea Version: 1.35.6 Command: rm -rf fgsea.buildbin-libdir && mkdir fgsea.buildbin-libdir && /Users/biocbuild/BBS/utils/build-universal.sh fgsea_1.35.6.tar.gz /Library/Frameworks/R.framework/Resources/bin/R fgsea.buildbin-libdir StartedAt: 2025-07-22 22:24:19 -0400 (Tue, 22 Jul 2025) EndedAt: 2025-07-22 22:24:32 -0400 (Tue, 22 Jul 2025) EllapsedTime: 13.3 seconds RetCode: 0 Status: OK PackageFile: fgsea_1.35.6.tgz PackageFileSize: 7.144 MiB