Package: fgga Version: 1.17.0 Command: /home/biocbuild/R/R/bin/R CMD INSTALL fgga StartedAt: 2025-07-24 21:15:05 -0000 (Thu, 24 Jul 2025) EndedAt: 2025-07-24 21:15:25 -0000 (Thu, 24 Jul 2025) EllapsedTime: 19.8 seconds RetCode: 0 Status: OK