Package: fgga Version: 1.17.0 Command: /home/biocbuild/R/R/bin/R CMD build --keep-empty-dirs --no-resave-data fgga StartedAt: 2025-07-25 00:36:19 -0000 (Fri, 25 Jul 2025) EndedAt: 2025-07-25 00:37:32 -0000 (Fri, 25 Jul 2025) EllapsedTime: 73.0 seconds RetCode: 0 Status: OK PackageFile: fgga_1.17.0.tar.gz PackageFileSize: 1.376 MiB