Package: fgga Version: 1.17.0 Command: F:\biocbuild\bbs-3.22-bioc\R\bin\R.exe CMD check --no-multiarch --install=check:fgga.install-out.txt --library=F:\biocbuild\bbs-3.22-bioc\R\library --no-vignettes --timings fgga_1.17.0.tar.gz StartedAt: 2025-07-12 01:54:40 -0400 (Sat, 12 Jul 2025) EndedAt: 2025-07-12 01:56:43 -0400 (Sat, 12 Jul 2025) EllapsedTime: 123.4 seconds RetCode: 0 Status: OK CheckDir: fgga.Rcheck Warnings: 0