Package: fgga Version: 1.17.0 Command: chmod a+r fgga -R && F:\biocbuild\bbs-3.22-bioc\R\bin\R.exe CMD build --keep-empty-dirs --no-resave-data fgga StartedAt: 2025-07-04 19:00:57 -0400 (Fri, 04 Jul 2025) EndedAt: 2025-07-04 19:02:06 -0400 (Fri, 04 Jul 2025) EllapsedTime: 69.0 seconds RetCode: 0 Status: OK PackageFile: fgga_1.17.0.tar.gz PackageFileSize: 1.306 MiB