Package: fgga Version: 1.17.0 Command: /home/biocbuild/bbs-3.22-bioc/R/bin/R CMD INSTALL fgga StartedAt: 2025-07-01 15:13:04 -0400 (Tue, 01 Jul 2025) EndedAt: 2025-07-01 15:13:16 -0400 (Tue, 01 Jul 2025) EllapsedTime: 12.4 seconds RetCode: 0 Status: OK