Package: fgga Version: 1.17.0 Command: /home/biocbuild/bbs-3.22-bioc/R/bin/R CMD check --install=check:fgga.install-out.txt --library=/home/biocbuild/bbs-3.22-bioc/R/site-library --timings fgga_1.17.0.tar.gz StartedAt: 2025-07-01 22:18:51 -0400 (Tue, 01 Jul 2025) EndedAt: 2025-07-01 22:21:25 -0400 (Tue, 01 Jul 2025) EllapsedTime: 153.2 seconds RetCode: 0 Status: OK CheckDir: fgga.Rcheck Warnings: 0