Package: fgga Version: 1.17.0 Command: /home/biocbuild/bbs-3.22-bioc/R/bin/R CMD build --keep-empty-dirs --no-resave-data --md5 fgga StartedAt: 2025-07-01 17:13:07 -0400 (Tue, 01 Jul 2025) EndedAt: 2025-07-01 17:13:59 -0400 (Tue, 01 Jul 2025) EllapsedTime: 52.0 seconds RetCode: 0 Status: OK PackageFile: fgga_1.17.0.tar.gz PackageFileSize: 1.438 MiB