Package: fgga Version: 1.17.0 Command: /Library/Frameworks/R.framework/Resources/bin/R CMD build --keep-empty-dirs --no-resave-data fgga StartedAt: 2025-07-01 16:59:32 -0400 (Tue, 01 Jul 2025) EndedAt: 2025-07-01 17:00:36 -0400 (Tue, 01 Jul 2025) EllapsedTime: 63.9 seconds RetCode: 0 Status: OK PackageFile: fgga_1.17.0.tar.gz PackageFileSize: 1.36 MiB