Package: fgga Version: 1.17.0 Command: rm -rf fgga.buildbin-libdir && mkdir fgga.buildbin-libdir && /Users/biocbuild/BBS/utils/build-universal.sh fgga_1.17.0.tar.gz /Library/Frameworks/R.framework/Resources/bin/R fgga.buildbin-libdir StartedAt: 2025-07-02 00:57:15 -0400 (Wed, 02 Jul 2025) EndedAt: 2025-07-02 00:57:32 -0400 (Wed, 02 Jul 2025) EllapsedTime: 17.3 seconds RetCode: 0 Status: OK PackageFile: fgga_1.17.0.tgz PackageFileSize: 1.369 MiB