Package: ffpe Version: 1.53.0 Command: /home/biocbuild/R/R/bin/R CMD INSTALL ffpe StartedAt: 2025-07-24 22:10:50 -0000 (Thu, 24 Jul 2025) EndedAt: 2025-07-24 22:11:47 -0000 (Thu, 24 Jul 2025) EllapsedTime: 56.6 seconds RetCode: 0 Status: OK