Package: ffpe Version: 1.53.0 Command: /home/biocbuild/R/R/bin/R CMD build --keep-empty-dirs --no-resave-data ffpe StartedAt: 2025-07-25 00:36:15 -0000 (Fri, 25 Jul 2025) EndedAt: 2025-07-25 00:37:42 -0000 (Fri, 25 Jul 2025) EllapsedTime: 87.0 seconds RetCode: 0 Status: OK PackageFile: ffpe_1.53.0.tar.gz PackageFileSize: 259.3 KiB