Package: ffpe Version: 1.53.0 Command: /Library/Frameworks/R.framework/Resources/bin/R CMD build --keep-empty-dirs --no-resave-data ffpe StartedAt: 2025-07-16 16:54:49 -0400 (Wed, 16 Jul 2025) EndedAt: 2025-07-16 16:56:20 -0400 (Wed, 16 Jul 2025) EllapsedTime: 91.1 seconds RetCode: 0 Status: OK PackageFile: ffpe_1.53.0.tar.gz PackageFileSize: 267.8 KiB