Package: ffpe Version: 1.53.0 Command: rm -rf ffpe.buildbin-libdir && mkdir ffpe.buildbin-libdir && /Users/biocbuild/BBS/utils/build-universal.sh ffpe_1.53.0.tar.gz /Library/Frameworks/R.framework/Resources/bin/R ffpe.buildbin-libdir StartedAt: 2025-07-17 00:55:21 -0400 (Thu, 17 Jul 2025) EndedAt: 2025-07-17 00:56:27 -0400 (Thu, 17 Jul 2025) EllapsedTime: 66.3 seconds RetCode: 0 Status: OK PackageFile: ffpe_1.53.0.tgz PackageFileSize: 299.2 KiB