Package: ffpe Version: 1.53.0 Command: /Library/Frameworks/R.framework/Resources/bin/R CMD check --install=check:ffpe.install-out.txt --library=/Library/Frameworks/R.framework/Resources/library --no-vignettes --timings ffpe_1.53.0.tar.gz StartedAt: 2025-07-21 19:15:49 -0400 (Mon, 21 Jul 2025) EndedAt: 2025-07-21 19:17:56 -0400 (Mon, 21 Jul 2025) EllapsedTime: 126.6 seconds RetCode: 0 Status: OK CheckDir: ffpe.Rcheck Warnings: 0