Package: fenr Version: 1.7.1 Command: chmod a+r fenr -R && F:\biocbuild\bbs-3.22-bioc\R\bin\R.exe CMD build --keep-empty-dirs --no-resave-data fenr StartedAt: 2025-07-14 19:01:43 -0400 (Mon, 14 Jul 2025) EndedAt: 2025-07-14 19:02:19 -0400 (Mon, 14 Jul 2025) EllapsedTime: 36.6 seconds RetCode: 0 Status: OK PackageFile: fenr_1.7.1.tar.gz PackageFileSize: 1.997 MiB