Package: fenr Version: 1.7.1 Command: rm -rf fenr.buildbin-libdir && mkdir fenr.buildbin-libdir && F:\biocbuild\bbs-3.22-bioc\R\bin\R.exe CMD INSTALL --build --library=fenr.buildbin-libdir fenr_1.7.1.tar.gz StartedAt: 2025-07-15 08:56:10 -0400 (Tue, 15 Jul 2025) EndedAt: 2025-07-15 08:56:25 -0400 (Tue, 15 Jul 2025) EllapsedTime: 14.6 seconds RetCode: 0 Status: OK PackageFile: fenr_1.7.1.zip PackageFileSize: 1.82 MiB