Package: fenr Version: 1.7.1 Command: /Library/Frameworks/R.framework/Resources/bin/R CMD INSTALL fenr StartedAt: 2025-07-07 15:05:02 -0400 (Mon, 07 Jul 2025) EndedAt: 2025-07-07 15:05:04 -0400 (Mon, 07 Jul 2025) EllapsedTime: 1.7 seconds RetCode: 0 Status: OK