Package: fedup Version: 1.17.0 Command: /home/biocbuild/R/R/bin/R CMD INSTALL fedup StartedAt: 2025-07-17 20:22:28 -0000 (Thu, 17 Jul 2025) EndedAt: 2025-07-17 20:22:44 -0000 (Thu, 17 Jul 2025) EllapsedTime: 16.1 seconds RetCode: 0 Status: OK