Package: fedup Version: 1.17.0 Command: /home/biocbuild/R/R/bin/R CMD build --keep-empty-dirs --no-resave-data fedup StartedAt: 2025-07-17 23:46:37 -0000 (Thu, 17 Jul 2025) EndedAt: 2025-07-17 23:48:33 -0000 (Thu, 17 Jul 2025) EllapsedTime: 116.1 seconds RetCode: 0 Status: OK PackageFile: fedup_1.17.0.tar.gz PackageFileSize: 3.814 MiB