Package: fedup Version: 1.17.0 Command: F:\biocbuild\bbs-3.22-bioc\R\bin\R.exe CMD INSTALL fedup StartedAt: 2025-06-29 17:00:11 -0400 (Sun, 29 Jun 2025) EndedAt: 2025-06-29 17:00:33 -0400 (Sun, 29 Jun 2025) EllapsedTime: 22.2 seconds RetCode: 0 Status: OK