Package: fedup Version: 1.17.0 Command: F:\biocbuild\bbs-3.22-bioc\R\bin\R.exe CMD check --no-multiarch --install=check:fedup.install-out.txt --library=F:\biocbuild\bbs-3.22-bioc\R\library --no-vignettes --timings fedup_1.17.0.tar.gz StartedAt: 2025-07-02 01:56:24 -0400 (Wed, 02 Jul 2025) EndedAt: 2025-07-02 02:01:14 -0400 (Wed, 02 Jul 2025) EllapsedTime: 290.0 seconds RetCode: 0 Status: OK CheckDir: fedup.Rcheck Warnings: 0