Package: fedup Version: 1.17.0 Command: chmod a+r fedup -R && F:\biocbuild\bbs-3.22-bioc\R\bin\R.exe CMD build --keep-empty-dirs --no-resave-data fedup StartedAt: 2025-06-29 18:59:42 -0400 (Sun, 29 Jun 2025) EndedAt: 2025-06-29 19:02:37 -0400 (Sun, 29 Jun 2025) EllapsedTime: 174.6 seconds RetCode: 0 Status: OK PackageFile: fedup_1.17.0.tar.gz PackageFileSize: 3.479 MiB