Package: fedup Version: 1.17.0 Command: rm -rf fedup.buildbin-libdir && mkdir fedup.buildbin-libdir && F:\biocbuild\bbs-3.22-bioc\R\bin\R.exe CMD INSTALL --build --library=fedup.buildbin-libdir fedup_1.17.0.tar.gz StartedAt: 2025-06-30 08:44:12 -0400 (Mon, 30 Jun 2025) EndedAt: 2025-06-30 08:44:31 -0400 (Mon, 30 Jun 2025) EllapsedTime: 18.6 seconds RetCode: 0 Status: OK PackageFile: fedup_1.17.0.zip PackageFileSize: 3.213 MiB