Package: fedup Version: 1.17.0 Command: /home/biocbuild/bbs-3.22-bioc/R/bin/R CMD INSTALL fedup StartedAt: 2025-06-29 15:15:36 -0400 (Sun, 29 Jun 2025) EndedAt: 2025-06-29 15:15:43 -0400 (Sun, 29 Jun 2025) EllapsedTime: 7.3 seconds RetCode: 0 Status: OK