Package: fedup Version: 1.17.0 Command: /home/biocbuild/bbs-3.22-bioc/R/bin/R CMD build --keep-empty-dirs --no-resave-data --md5 fedup StartedAt: 2025-06-29 17:14:45 -0400 (Sun, 29 Jun 2025) EndedAt: 2025-06-29 17:16:06 -0400 (Sun, 29 Jun 2025) EllapsedTime: 81.1 seconds RetCode: 0 Status: OK PackageFile: fedup_1.17.0.tar.gz PackageFileSize: 4.704 MiB