Package: fedup Version: 1.17.0 Command: /Library/Frameworks/R.framework/Resources/bin/R CMD build --keep-empty-dirs --no-resave-data fedup StartedAt: 2025-06-29 16:44:18 -0400 (Sun, 29 Jun 2025) EndedAt: 2025-06-29 16:46:07 -0400 (Sun, 29 Jun 2025) EllapsedTime: 108.2 seconds RetCode: 0 Status: OK PackageFile: fedup_1.17.0.tar.gz PackageFileSize: 4.703 MiB