Package: fedup Version: 1.17.0 Command: /Library/Frameworks/R.framework/Resources/bin/R CMD INSTALL fedup StartedAt: 2025-07-16 15:06:40 -0400 (Wed, 16 Jul 2025) EndedAt: 2025-07-16 15:06:44 -0400 (Wed, 16 Jul 2025) EllapsedTime: 3.7 seconds RetCode: 0 Status: OK