Package: fedup Version: 1.17.0 Command: /Library/Frameworks/R.framework/Resources/bin/R CMD build --keep-empty-dirs --no-resave-data fedup StartedAt: 2025-07-16 16:17:31 -0400 (Wed, 16 Jul 2025) EndedAt: 2025-07-16 16:18:06 -0400 (Wed, 16 Jul 2025) EllapsedTime: 35.4 seconds RetCode: 0 Status: OK PackageFile: fedup_1.17.0.tar.gz PackageFileSize: 4.703 MiB