Package: fdrame Version: 1.81.0 Command: F:\biocbuild\bbs-3.22-bioc\R\bin\R.exe CMD INSTALL fdrame StartedAt: 2025-07-04 15:18:28 -0400 (Fri, 04 Jul 2025) EndedAt: 2025-07-04 15:18:53 -0400 (Fri, 04 Jul 2025) EllapsedTime: 25.0 seconds RetCode: 0 Status: OK