Package: fdrame Version: 1.81.0 Command: rm -rf fdrame.buildbin-libdir && mkdir fdrame.buildbin-libdir && F:\biocbuild\bbs-3.22-bioc\R\bin\R.exe CMD INSTALL --build --library=fdrame.buildbin-libdir fdrame_1.81.0.tar.gz StartedAt: 2025-07-05 08:51:41 -0400 (Sat, 05 Jul 2025) EndedAt: 2025-07-05 08:52:02 -0400 (Sat, 05 Jul 2025) EllapsedTime: 20.7 seconds RetCode: 0 Status: OK PackageFile: fdrame_1.81.0.zip PackageFileSize: 977.2 KiB