Package: fcScan Version: 1.23.0 Command: F:\biocbuild\bbs-3.22-bioc\R\bin\R.exe CMD INSTALL fcScan StartedAt: 2025-07-09 17:24:36 -0400 (Wed, 09 Jul 2025) EndedAt: 2025-07-09 17:25:25 -0400 (Wed, 09 Jul 2025) EllapsedTime: 48.8 seconds RetCode: 0 Status: OK